Workbook

Sheet 各年度(113-114)
A1: 智慧財產專業人員培訓課程性別統計表
A2: 年度 | B2: 項目 | C2: 性別 | D2: 學員人次 | E2: 學員比例 | F2: 北部地區 | H2: 中部地區 | J2: 南部地區 | L2: 東部與金馬地區 | N2: 香港
F3: 人次 | G3: 比例 | H3: 人次 | I3: 比例 | J3: 人次 | K3: 比例 | L3: 人次 | M3: 比例 | N3: 人次 | O3: 比例
A4: 114 | B4: 智慧財產專業人員培訓課程 | C4: 合計 | D4: =D5+D6 -> 738 | E4: =E5+E6+E7 -> 1 | F4: =F5+F6 -> 575 | G4: =F4/D4 -> 0.77913279 | H4: =H5+H6 -> 94 | I4: =H4/D4 -> 0.12737127 | J4: =J5+J6 -> 69 | K4: =J4/D4 -> 0.093495935 | L4: 0 | M4: =L4/D4 -> 0
C5: 男性 | D5: =F5+H5+J5 -> 281 | E5: =D5/D4 -> 0.38075881 | F5: 205 | G5: =F5/D5 -> 0.72953737 | H5: 47 | I5: =H5/D5 -> 0.16725979 | J5: 29 | K5: =J5/D5 -> 0.10320285 | L5: 0 | M5: =L5/D5 -> 0
C6: 女性 | D6: =F6+H6+J6 -> 457 | E6: =D6/D4 -> 0.61924119 | F6: 370 | G6: =F6/D6 -> 0.80962801 | H6: 47 | I6: =H6/D6 -> 0.10284464 | J6: 40 | K6: =J6/D6 -> 0.087527352 | L6: 0 | M6: =L6/D6 -> 0
C7: 其他 | D7: =F7+H7+J7 -> 0 | E7: =D7/D4 -> 0
A8: 113 | B8: 智慧財產專業人員培訓課程 | C8: 合計 | D8: 730 | E8: =E9+E10+E11 -> 1 | F8: 563 | G8: =F8/D8 -> 0.77123288 | H8: 79 | I8: =H8/D8 -> 0.10821918 | J8: 86 | K8: =J8/D8 -> 0.11780822 | L8: 1 | M8: =L8/D8 -> 0.001369863 | N8: 1 | O8: =N8/D8 -> 0.001369863
C9: 男性 | D9: 303 | E9: =D9/D8 -> 0.41506849 | F9: 228 | G9: =F9/D9 -> 0.75247525 | H9: 30 | I9: =H9/D9 -> 0.099009901 | J9: 45 | K9: =J9/D9 -> 0.14851485 | L9: 0 | M9: =L9/D9 -> 0 | N9: 0 | O9: =N9/D9 -> 0
C10: 女性 | D10: 422 | E10: =D10/D8 -> 0.57808219 | F10: 330 | G10: =F10/D10 -> 0.78199052 | H10: 49 | I10: =H10/D10 -> 0.11611374 | J10: 41 | K10: =J10/D10 -> 0.097156398 | L10: 1 | M10: =L10/D10 -> 0.0023696682 | N10: 1 | O10: =N10/D10 -> 0.0023696682
C11: 其他 | D11: 5 | E11: =D11/D8 -> 0.0068493151 | F11: 5 | G11: =F11/D11 -> 1 | H11: 0 | I11: =H11/D11 -> 0 | J11: 0 | K11: =J11/D11 -> 0 | L11: 0 | M11: =L11/D11 -> 0 | N11: 0 | O11: =N11/D11 -> 0
A14: 資料來源：經濟部智慧財產局
A15: 備註：
A16: 北部地區：臺北市、新北市、基隆市、桃園市、新竹縣市、宜蘭縣。
A17: 中部地區：臺中市、苗栗縣、彰化縣、南投縣、雲林縣。
A18: 南部地區：高雄市、臺南市、嘉義縣市、屏東縣、澎湖縣。
A19: 東部與金馬地區：花蓮縣、臺東縣、金門縣、連江縣。

Sheet 各年度(98-114)
A1: 智慧財產專業人員培訓課程性別統計表
A2: 年度 | B2: 項目 | C2: 性別 | D2: 學員人次 | E2: 學員比例
A3: 114 | B3: 智慧財產專業人員培訓課程 | C3: 合計 | D3: 738 | E3: =E5+E6 -> 1
C4: 其他 | D4: 0 | E4: =D4/D3 -> 0
C5: 男性 | D5: 281 | E5: =D5/D3 -> 0.38075881
C6: 女性 | D6: 457 | E6: =D6/D3 -> 0.61924119
A7: 113 | B7: 智慧財產專業人員培訓課程 | C7: 合計 | D7: 730 | E7: =E8+E9+E10 -> 1
C8: 其他 | D8: 5 | E8: =D8/D7 -> 0.0068493151
C9: 男性 | D9: 303 | E9: =D9/D7 -> 0.41506849
C10: 女性 | D10: 422 | E10: =D10/D7 -> 0.57808219
A11: 112 | B11: 智慧財產專業人員培訓課程 | C11: 合計 | D11: =SUM(D12,D13) -> 568 | E11: =SUM(E12,E13) -> 1
C12: 男性 | D12: 236 | E12: =D12/D11 -> 0.41549296
C13: 女性 | D13: 332 | E13: =D13/D11 -> 0.58450704
A14: 111 | B14: 智慧財產專業人員培訓課程 | C14: 合計 | D14: =SUM(D15:D16) -> 762 | E14: =SUM(E15:E16) -> 1
C15: 男性 | D15: 269 | E15: =D15/D14 -> 0.35301837
C16: 女性 | D16: 493 | E16: =D16/D14 -> 0.64698163
A17: 110 | B17: 智慧財產專業人員培訓課程 | C17: 合計 | D17: =D18+D19 -> 960 | E17: =D17/D17 -> 1
C18: 男性 | D18: 375 | E18: =D18/D17 -> 0.390625
C19: 女性 | D19: 585 | E19: =D19/D17 -> 0.609375
A20: 109 | B20: 智慧財產專業人員培訓課程 | C20: 合計 | D20: =(D21+D22) -> 643 | E20: 1
C21: 男性 | D21: 271 | E21: =D21/D20 -> 0.4214619
C22: 女性 | D22: 372 | E22: =D22/D20 -> 0.5785381
A23: 108 | B23: 智慧財產專業人員培訓課程 | C23: 合計 | D23: 633 | E23: 1
C24: 男性 | D24: 247 | E24: 0.3902
C25: 女性 | D25: 386 | E25: 0.6098
A26: 107 | B26: 智慧財產專業人員培訓課程 | C26: 合計 | D26: 472 | E26: 1
C27: 男性 | D27: 183 | E27: 0.3877
C28: 女性 | D28: 289 | E28: 0.6123
A29: 106 | B29: 智慧財產專業人員培訓課程 | C29: 合計 | D29: 503 | E29: 1
C30: 男性 | D30: 251 | E30: 0.499
C31: 女性 | D31: 252 | E31: 0.501
A32: 105 | B32: 智慧財產專業人員培訓課程 | C32: 合計 | D32: ='105年'!B6 -> 730 | E32: ='105年'!C6 -> 1
C33: 男性 | D33: 355 | E33: ='105年'!C7 -> 0.48630137
C34: 女性 | D34: ='105年'!B8 -> 375 | E34: ='105年'!C8 -> 0.51369863
A35: 104 | B35: 智慧財產專業人員培訓課程 | C35: 合計 | D35: ='104年'!B6 -> 714 | E35: ='104年'!C6 -> 1
C36: 男性 | D36: ='104年'!B7 -> 356 | E36: ='104年'!C7 -> 0.49859944
C37: 女性 | D37: ='104年'!B8 -> 358 | E37: ='104年'!C8 -> 0.50140056
A38: 103 | B38: 智慧財產專業人員培訓課程 | C38: 合計 | D38: ='103年'!B6 -> 880 | E38: ='103年'!C6 -> 1
C39: 男性 | D39: ='103年'!B7 -> 472 | E39: ='103年'!C7 -> 0.53636364
C40: 女性 | D40: ='103年'!B8 -> 408 | E40: ='103年'!C8 -> 0.46363636
...

Sheet 114年
A1: 智慧財產專業人員培訓課程性別統計表
A2: 中華民國114年
A3: 性別 | B3: 總計 | D3: 能力認證基礎課程 | H3: 跨技術領域深耕課程 | J3: 地區
D4: 實體課程 | F4: 線上非同步課程
B5: 人次 | C5: % | D5: 人次 | E5: % | F5: 人次 | G5: % | H5: 人次 | I5: % | J5: 北部地區 | K5: 中部地區 | L5: 南部地區 | M5: 東部與金馬地區
A7: 班次 | B7: 23 | D7: 12 | F7: 9 | H7: 2
A8: 合計人次 | B8: =B9+B10 -> 738 | C8: =C9+C10 -> 1 | D8: =D9+D10 -> 557 | E8: =E9+E10 -> 1 | F8: =F9+F10 -> 139 | G8: =G9+G10 -> 1 | H8: =H9+H10 -> 42 | I8: =I9+I10 -> 1 | J8: 575 | K8: 94 | L8: 69 | M8: 0
A9: 男 | B9: =D9+F9+H9 -> 281 | C9: =B9/B8 -> 0.38075881 | D9: 212 | E9: =D9/D8 -> 0.38061041 | F9: 60 | G9: =F9/F8 -> 0.43165468 | H9: 9 | I9: =H9/H8 -> 0.21428571 | J9: =155+43+7 -> 205 | K9: =36+9+2 -> 47 | L9: =21+8+0 -> 29 | M9: 0
A10: 女 | B10: =D10+F10+H10 -> 457 | C10: =B10/B8 -> 0.61924119 | D10: 345 | E10: =D10/D8 -> 0.61938959 | F10: 79 | G10: =F10/F8 -> 0.56834532 | H10: 33 | I10: =H10/H8 -> 0.78571429 | J10: =286+56+28 -> 370 | K10: =31+12+4 -> 47 | L10: =28+11+1 -> 40 | M10: 0
A11: 其他 | B11: =D11+F11+H11 -> 0 | C11: =B11/B8 -> 0
A12: 資料來源：經濟部智慧財產局
A13: 備註：
A14: 北部地區：臺北市、新北市、基隆市、桃園市、新竹縣市、宜蘭縣。
A15: 中部地區：臺中市、苗栗縣、彰化縣、南投縣、雲林縣。
A16: 南部地區：高雄市、臺南市、嘉義縣市、屏東縣、澎湖縣。
A17: 東部與金馬地區：花蓮縣、臺東縣、金門縣、連江縣。

Sheet 113年
A1: 智慧財產專業人員培訓課程性別統計表
A2: 中華民國113年
A3: 性別 | B3: 總計 | D3: 能力認證基礎課程 | H3: 不同產業及技術 領域深耕課程 | J3: 地區
D4: 實體課程 | F4: 線上非同步課程
B5: 人次 | C5: % | D5: 人次 | E5: % | F5: 人次 | G5: % | H5: 人次 | I5: % | J5: 北部地區 | K5: 中部地區 | L5: 南部地區 | M5: 東部與金馬地區 | N5: 香港
A7: 班次 | B7: 23 | D7: 14 | F7: 7 | H7: 2
A8: 合計人次 | B8: 730 | C8: =C9+C10+C11 -> 1 | D8: 500 | E8: =E9+E10+E11 -> 1 | F8: 119 | G8: =G9+G10+G11 -> 1 | H8: 111 | I8: =I9+I10+I11 -> 1 | J8: 563 | K8: 79 | L8: 86 | M8: 1 | N8: 1
A9: 男 | B9: 303 | C9: =B9/B8 -> 0.41506849 | D9: 186 | E9: =D9/D8 -> 0.372 | F9: 83 | G9: =F9/F8 -> 0.69747899 | H9: 34 | I9: =H9/H8 -> 0.30630631 | J9: 228 | K9: 30 | L9: 45 | M9: 0 | N9: 0
A10: 女 | B10: 422 | C10: =B10/B8 -> 0.57808219 | D10: 309 | E10: =D10/D8 -> 0.618 | F10: 36 | G10: =F10/F8 -> 0.30252101 | H10: 77 | I10: =H10/H8 -> 0.69369369 | J10: 330 | K10: 49 | L10: 41 | M10: 1 | N10: 1
A11: 其他 | B11: 5 | C11: =B11/B8 -> 0.0068493151 | D11: 5 | E11: =D11/D8 -> 0.01 | F11: 0 | G11: =F11/F8 -> 0 | H11: 0 | I11: =H11/H8 -> 0 | J11: 5 | K11: 0 | L11: 0 | M11: 0 | N11: 0
A12: 資料來源：經濟部智慧財產局
A13: 備註：
A14: 北部地區：臺北市、新北市、基隆市、桃園市、新竹縣市、宜蘭縣。
A15: 中部地區：臺中市、苗栗縣、彰化縣、南投縣、雲林縣。
A16: 南部地區：高雄市、臺南市、嘉義縣市、屏東縣、澎湖縣。
A17: 東部與金馬地區：花蓮縣、臺東縣、金門縣、連江縣。

Sheet 112年
A1: 智慧財產專業人員培訓課程性別統計表
A2: 中華民國112年
A3: 性別 | B3: 總計 | D3: 培訓班 | H3: 高階班(含特殊專班)
B4: 人次 | C4: % | D4: 實體 | F4: 非同步線上 | H4: 人次 | I4: %
D5: 人次 | E5: % | F5: 人次 | G5: %
A6: 班次 | B6: 18 | D6: 5 | F6: 10 | H6: 3
A7: 合計人次 | B7: =B8+B9 -> 568 | C7: =C8+C9 -> 1 | D7: =D8+D9 -> 310 | E7: =E8+E9 -> 1 | F7: =F8+F9 -> 106 | G7: =G8+G9 -> 1 | H7: =H8+H9 -> 152 | I7: =I8+I9 -> 1
A8: 男 | B8: =D8+F8+H8 -> 236 | C8: =B8/B7 -> 0.41549296 | D8: 123 | E8: =D8/$D$7 -> 0.39677419 | F8: 45 | G8: =F8/$F$7 -> 0.4245283 | H8: 68 | I8: =H8/$H$7 -> 0.44736842
A9: 女 | B9: =D9+F9+H9 -> 332 | C9: =B9/B7 -> 0.58450704 | D9: 187 | E9: =D9/$D$7 -> 0.60322581 | F9: 61 | G9: =F9/$F$7 -> 0.5754717 | H9: 84 | I9: =H9/$H$7 -> 0.55263158
A10: 資料來源：經濟部智慧財產局

Sheet 111年
A1: 智慧財產專業人員培訓課程性別統計表
A2: 中華民國111年
A3: 性別 | B3: 總計 | D3: 培訓班 | H3: 高階班
B4: 人次 | C4: % | D4: 實體 | F4: 非同步線上 | H4: 人次 | I4: %
D5: 人次 | E5: % | F5: 人次 | G5: %
A6: 班次 | B6: 16 | D6: 13 | F6: * | H6: 3
A7: 合計人次 | B7: =D7+F7+H7 -> 762 | C7: =C8+C9 -> 1 | D7: =D8+D9 -> 538 | E7: =E8+E9 -> 1 | F7: =F8+F9 -> 125 | G7: =G8+G9 -> 1 | H7: =H8+H9 -> 99 | I7: =I8+I9 -> 1
A8: 男 | B8: =SUM(D8,F8,H8) -> 269 | C8: =B8/$B$7 -> 0.35301837 | D8: 174 | E8: =D8/$D$7 -> 0.32342007 | F8: 51 | G8: =F8/$F$7 -> 0.408 | H8: 44 | I8: =H8/$H$7 -> 0.44444444
A9: 女 | B9: =SUM(D9,F9,H9) -> 493 | C9: =B9/$B$7 -> 0.64698163 | D9: 364 | E9: =D9/$D$7 -> 0.67657993 | F9: 74 | G9: =F9/$F$7 -> 0.592 | H9: 55 | I9: =H9/$H$7 -> 0.55555556
A10: 資料來源：經濟部智慧財產局 *非同步線上課程內容與實體課程相同

Sheet 110年
A1: 智慧財產專業人員培訓課程性別統計表
A2: 中華民國110年
A3: 性別 | B3: 總計 | D3: 培訓班 | F3: 高階班 | H3: 大專技轉專班 | J3: 司法院專班 | L3: 企業專班
B4: 人次 | C4: % | D4: 人次 | E4: % | F4: 人次 | G4: % | H4: 人次 | I4: % | J4: 人次 | K4: % | L4: 人次 | M4: %
A5: 班次 | B5: 17 | D5: 16 | F5: 1 | H5: 2 | J5: 1 | L5: 1
A6: 合計人次 | B6: =D6+F6+J6 -> 960 | C6: =C7+C8 -> 1 | D6: =D7+D8 -> 905 | E6: =E7+E8 -> 1 | F6: =F7+F8 -> 55 | G6: =G7+G8 -> 1 | H6: =H7+H8 -> 0 | I6: =I7+I8 -> #DIV/0! | J6: =J7+J8 -> 0 | L6: =L7+L8 -> 0 | M6: =M7+M8 -> #DIV/0!
A7: 男 | B7: =D7+F7+J7 -> 375 | C7: =B7/$B$6 -> 0.390625 | D7: 357 | E7: =D7/$D$6 -> 0.39447514 | F7: 18 | G7: =F7/$F$6 -> 0.32727273 | I7: =H7/$H$6 -> #DIV/0! | J7: 0 | K7: =J7/$J$6 -> #DIV/0! | M7: =L7/$L$6 -> #DIV/0!
A8: 女 | B8: =D8+F8+J8 -> 585 | C8: =B8/$B$6 -> 0.609375 | D8: 548 | E8: =D8/$D$6 -> 0.60552486 | F8: 37 | G8: =F8/$F$6 -> 0.67272727 | I8: =H8/$H$6 -> #DIV/0! | J8: 0 | M8: =L8/$L$6 -> #DIV/0!
A9: 資料來源：經濟部智慧財產局

Sheet 109年
A1: 智慧財產專業人員培訓課程性別統計表
A2: 中華民國109年
A3: 性別 | B3: 總計 | D3: 培訓班 | F3: 高階班 | H3: 大專技轉專班 | J3: 司法院專班 | L3: 企業專班
B4: 人次 | C4: % | D4: 人次 | E4: % | F4: 人次 | G4: % | H4: 人次 | I4: % | J4: 人次 | K4: % | L4: 人次 | M4: %
A5: 班次 | B5: 11 | D5: 9 | F5: 1 | H5: 2 | J5: 1 | L5: 1
A6: 合計人次 | B6: =D6+F6+J6 -> 643 | C6: =C7+C8 -> 1 | D6: =D7+D8 -> 538 | E6: =E7+E8 -> 1 | F6: =F7+F8 -> 53 | G6: =G7+G8 -> 1 | H6: =H7+H8 -> 0 | I6: =I7+I8 -> #DIV/0! | J6: 52 | K6: =K7+K8 -> 1 | L6: =L7+L8 -> 0 | M6: =M7+M8 -> #DIV/0!
A7: 男 | B7: =D7+F7+J7 -> 271 | C7: =B7/$B$6 -> 0.4214619 | D7: 223 | E7: =D7/$D$6 -> 0.41449814 | F7: 24 | G7: =F7/$F$6 -> 0.45283019 | I7: =H7/$H$6 -> #DIV/0! | J7: 24 | K7: =J7/$J$6 -> 0.46153846 | M7: =L7/$L$6 -> #DIV/0!
A8: 女 | B8: =D8+F8+J8 -> 372 | C8: =B8/$B$6 -> 0.5785381 | D8: 315 | E8: =D8/$D$6 -> 0.58550186 | F8: 29 | G8: =F8/$F$6 -> 0.54716981 | I8: =H8/$H$6 -> #DIV/0! | J8: 28 | K8: =J8/$J$6 -> 0.53846154 | M8: =L8/$L$6 -> #DIV/0!
A9: 資料來源：經濟部智慧財產局

Sheet 108年
A1: 智慧財產專業人員培訓課程性別統計表
A2: 中華民國108年
A3: 性別 | B3: 總計 | D3: 培訓班 | F3: 高階班 | H3: 大專技轉專班 | J3: 司法院專班 | L3: 企業專班
B4: 人次 | C4: % | D4: 人次 | E4: % | F4: 人次 | G4: % | H4: 人次 | I4: % | J4: 人次 | K4: % | L4: 人次 | M4: %
A5: 班次 | B5: 14 | D5: 8 | F5: 2 | H5: 2 | J5: 1 | L5: 1
A6: 合計人次 | B6: =B7+B8 -> 633 | C6: =C7+C8 -> 1 | D6: =D7+D8 -> 329 | E6: =E7+E8 -> 1 | F6: =F7+F8 -> 74 | G6: =G7+G8 -> 1 | H6: =H7+H8 -> 141 | I6: =I7+I8 -> 1 | ... M6: =M7+M8 -> 1
A7: 男 | B7: =D7+F7+H7+J7+L7 -> 247 | C7: =B7/$B$6 -> 0.39020537 | D7: 143 | E7: =D7/$D$6 -> 0.43465046 | F7: =15+20 -> 35 | G7: =F7/$F$6 -> 0.47297297 | H7: =30 -> 30 | I7: =H7/$H$6 -> 0.21276596 | J7: 30 | K7: =J7/$J$6 -> 0.46153846 | L7: =9 -> 9 | M7: =L7/$L$6 -> 0.375
A8: 女 | B8: =D8+F8+H8+J8+L8 -> 386 | C8: =B8/$B$6 -> 0.60979463 | D8: 186 | E8: =D8/$D$6 -> 0.56534954 | F8: =15+24 -> 39 | G8: =F8/$F$6 -> 0.52702703 | H8: =111 -> 111 | I8: =H8/$H$6 -> 0.78723404 | J8: 35 | K8: =J8/$J$6 -> 0.53846154 | L8: =15 -> 15 | M8: =L8/$L$6 -> 0.625
A9: 資料來源：經濟部智慧財產局

Sheet 107年
A1: 智慧財產專業人員培訓課程性別統計表
A2: 中華民國107年
A3: 性別 | B3: 總計 | D3: 培訓班 | F3: 高階班 | H3: 大專技轉專班 | J3: 企業專班
B4: 人次 | C4: % | D4: 人次 | E4: % | F4: 人次 | G4: % | H4: 人次 | I4: % | J4: 人次 | K4: %
A5: 班次 | B5: =D5+F5+H5+J5 -> 12 | D5: 8 | F5: 2 | H5: 1 | J5: 1
A6: 合計人次 | B6: =B7+B8 -> 472 | C6: =C7+C8 -> 1 | D6: =D7+D8 -> 320 | E6: =E7+E8 -> 1 | F6: =F7+F8 -> 15 | G6: =G7+G8 -> 1 | H6: =H7+H8 -> 117 | I6: =I7+I8 -> 1 | ... K6: =K7+K8 -> 1
A7: 男 | B7: 183 | C7: 0.3877 | D7: 136 | E7: 0.425 | F7: 4 | G7: 0.2667 | H7: 31 | I7: 0.265 | J7: 12 | K7: 0.6
A8: 女 | B8: 289 | C8: 0.6123 | D8: 184 | E8: 0.575 | F8: 11 | G8: 0.7333 | H8: 86 | I8: 0.735 | J8: 8 | K8: 0.4
A9: 資料來源：經濟部智慧財產局

Sheet 106年
A1: 智慧財產專業人員培訓課程性別統計表
A2: 中華民國106年
A3: 性別 | B3: 總計 | D3: 培訓班 | F3: 高階班 | H3: 大專技轉專班 | J3: 法務部專班 | L3: 司法院專班
B4: 人次 | C4: % | D4: 人次 | E4: % | F4: 人次 | G4: % | H4: 人次 | I4: % | J4: 人次 | K4: % | L4: 人次 | M4: %
A5: 班次 | B5: =D5+F5+H5+J5+L5 -> 13 | D5: 8 | F5: 2 | H5: 1 | J5: 1 | L5: 1
A6: 合計人次 | B6: =B7+B8 -> 503 | C6: =C7+C8 -> 1 | D6: =D7+D8 -> 306 | E6: =E7+E8 -> 1 | F6: =F7+F8 -> 44 | G6: =G7+G8 -> 1 | H6: =H7+H8 -> 68 | I6: =I7+I8 -> 1 | ... M6: =M7+M8 -> 1
A7: 男 | B7: =D7+F7+H7+J7+L7 -> 251 | C7: =B7/$B$6 -> 0.49900596 | D7: 154 | E7: =D7/$D$6 -> 0.50326797 | F7: 32 | G7: =F7/$F$6 -> 0.72727273 | H7: 19 | I7: =H7/$H$6 -> 0.27941176 | J7: 26 | K7: =J7/$J$6 -> 0.56521739 | L7: 20 | M7: =L7/$L$6 -> 0.51282051
A8: 女 | B8: =D8+F8+H8+J8+L8 -> 252 | C8: =B8/$B$6 -> 0.50099404 | D8: 152 | E8: =D8/$D$6 -> 0.49673203 | F8: 12 | G8: =F8/$F$6 -> 0.27272727 | H8: 49 | I8: =H8/$H$6 -> 0.72058824 | J8: 20 | K8: =J8/$J$6 -> 0.43478261 | L8: 19 | M8: =L8/$L$6 -> 0.48717949
A9: 資料來源：經濟部智慧財產局

Sheet 105年
A1: 智慧財產專業人員培訓課程性別統計表
A2: 中華民國105年
A3: 性別 | B3: 總計 | D3: 培訓班 | F3: 高階班 | H3: 大專技轉專班 | J3: 法務部專班 | L3: 司法院專班 | N3: 種籽師資進修班
B4: 人次 | C4: % | D4: 人次 | E4: % | F4: 人次 | G4: % | H4: 人次 | I4: % | J4: 人次 | K4: % | L4: 人次 | M4: % | N4: 人次 | O4: %
A5: 班次 | B5: =D5+F5+H5+J5+L5+N5 -> 29 | D5: 20 | F5: 2 | H5: 4 | J5: 1 | L5: 1 | N5: 1
A6: 合計人次 | B6: =B7+B8 -> 730 | C6: =C7+C8 -> 1 | D6: =D7+D8 -> 389 | E6: =E7+E8 -> 1 | F6: =F7+F8 -> 71 | G6: =G7+G8 -> 1 | H6: =H7+H8 -> 148 | I6: =I7+I8 -> 1 | ... O6: =O7+O8 -> 1
A7: 男 | B7: =D7+F7+H7+J7+L7+N7 -> 355 | C7: =B7/$B$6 -> 0.48630137 | D7: 201 | E7: =D7/$D$6 -> 0.51670951 | F7: 49 | G7: =F7/$F$6 -> 0.69014085 | H7: 40 | I7: =H7/$H$6 -> 0.27027027 | J7: 23 | K7: =J7/$J$6 -> 0.56097561 | L7: 15 | M7: =L7/$L$6 -> 0.40540541 | N7: 27 | O7: =N7/$N$6 -> 0.61363636
A8: 女 | B8: =D8+F8+H8+J8+L8+N8 -> 375 | C8: =B8/$B$6 -> 0.51369863 | D8: 188 | E8: =D8/$D$6 -> 0.48329049 | F8: 22 | G8: =F8/$F$6 -> 0.30985915 | H8: 108 | I8: =H8/$H$6 -> 0.72972973 | J8: 18 | K8: =J8/$J$6 -> 0.43902439 | L8: 22 | M8: =L8/$L$6 -> 0.59459459 | N8: 17 | O8: =N8/$N$6 -> 0.38636364
A9: 資料來源：經濟部智慧財產局

Sheet 104年
A1: 智慧財產專業人員培訓課程性別統計表
A2: 中華民國104年
A3: 性別 | B3: 總計 | D3: 培訓班 | F3: 高階班 | H3: 大專技轉專班 | J3: 法務部專班 | L3: 司法院專班 | N3: 種籽師資進修班
B4: 人次 | C4: % | D4: 人次 | E4: % | F4: 人次 | G4: % | H4: 人次 | I4: % | J4: 人次 | K4: % | L4: 人次 | M4: % | N4: 人次 | O4: %
A5: 班次 | B5: =D5+F5+H5+J5+L5+N5 -> 27 | D5: 20 | F5: 1 | H5: 2 | J5: 1 | L5: 1 | N5: 2
A6: 合計人次 | B6: =B7+B8 -> 714 | C6: =C7+C8 -> 1 | D6: =D7+D8 -> 481 | E6: =E7+E8 -> 1 | F6: =F7+F8 -> 10 | G6: =G7+G8 -> 1 | H6: =H7+H8 -> 76 | I6: =I7+I8 -> 1 | ... O6: =O7+O8 -> 1
A7: 男 | B7: =D7+F7+H7+J7+L7+N7+P7 -> 356 | C7: =B7/$B$6 -> 0.49859944 | D7: 239 | E7: =D7/$D$6 -> 0.4968815 | F7: 9 | G7: =F7/$F$6 -> 0.9 | H7: 20 | I7: =H7/$H$6 -> 0.26315789 | J7: 22 | K7: =J7/$J$6 -> 0.55 | L7: 27 | M7: =L7/$L$6 -> 0.54 | N7: 39 | O7: =N7/$N$6 -> 0.68421053
A8: 女 | B8: =D8+F8+H8+J8+L8+N8+P8 -> 358 | C8: =B8/$B$6 -> 0.50140056 | D8: 242 | E8: =D8/$D$6 -> 0.5031185 | F8: 1 | G8: =F8/$F$6 -> 0.1 | H8: 56 | I8: =H8/$H$6 -> 0.73684211 | J8: 18 | K8: =J8/$J$6 -> 0.45 | L8: 23 | M8: =L8/$L$6 -> 0.46 | N8: 18 | O8: =N8/$N$6 -> 0.31578947
A9: 資料來源：經濟部智慧財產局

Sheet 103年
A1: 智慧財產專業人員培訓課程性別統計表
A2: 中華民國103年
A3: 性別 | B3: 總計 | D3: 培訓班 | F3: 高階班 | H3: 大專技轉專班 | J3: 法務部專班 | L3: 司法院專班 | N3: 種籽師資進修班
B4: 人次 | C4: % | D4: 人次 | E4: % | F4: 人次 | G4: % | H4: 人次 | I4: % | J4: 人次 | K4: % | L4: 人次 | M4: % | N4: 人次 | O4: %
A5: 班次 | B5: =D5+F5+H5+J5+L5+N5 -> 49 | D5: 32 | F5: 1 | H5: 2 | J5: 1 | L5: 1 | N5: 12
A6: 合計人次 | B6: =B7+B8 -> 880 | C6: =C7+C8 -> 1 | D6: =D7+D8 -> 638 | E6: =E7+E8 -> 1 | F6: =F7+F8 -> 28 | G6: =G7+G8 -> 1 | H6: =H7+H8 -> 82 | I6: =I7+I8 -> 1 | ... O6: =O7+O8 -> 1
A7: 男 | B7: =D7+F7+H7+J7+L7+N7+P7 -> 472 | C7: =B7/$B$6 -> 0.53636364 | D7: 360 | E7: =D7/$D$6 -> 0.56426332 | F7: 21 | G7: =F7/$F$6 -> 0.75 | H7: 23 | I7: =H7/$H$6 -> 0.2804878 | J7: 20 | K7: =J7/$J$6 -> 0.51282051 | L7: 13 | M7: =L7/$L$6 -> 0.34210526 | N7: 35 | O7: =N7/$N$6 -> 0.63636364
A8: 女 | B8: =D8+F8+H8+J8+L8+N8+P8 -> 408 | C8: =B8/$B$6 -> 0.46363636 | D8: 278 | E8: =D8/$D$6 -> 0.43573668 | F8: 7 | G8: =F8/$F$6 -> 0.25 | H8: 59 | I8: =H8/$H$6 -> 0.7195122 | J8: 19 | K8: =J8/$J$6 -> 0.48717949 | L8: 25 | M8: =L8/$L$6 -> 0.65789474 | N8: 20 | O8: =N8/$N$6 -> 0.36363636
A9: 資料來源：經濟部智慧財產局

Sheet 102年
A1: 智慧財產專業人員培訓課程性別統計表
A2: 中華民國102年
A3: 性別 | B3: 總計 | D3: 培訓班 | F3: 高階班 | H3: 中小學專班 | J3: 法務部專班 | L3: 司法院專班 | N3: 種籽師資進修班 | P3: 大專技轉研發專班
B4: 人次 | C4: % | D4: 人次 | E4: % | F4: 人次 | G4: % | H4: 人次 | I4: % | J4: 人次 | K4: % | L4: 人次 | M4: % | N4: 人次 | O4: % | P4: 人次 | Q4: %
A5: 班次 | B5: =D5+F5+H5+J5+L5+N5+P5 -> 50 | D5: 32 | F5: 1 | H5: 2 | J5: 1 | L5: 1 | N5: 12 | P5: 1
A6: 合計人次 | B6: =B7+B8 -> 1053 | C6: =C7+C8 -> 1 | D6: =D7+D8 -> 780 | E6: =E7+E8 -> 1 | F6: =F7+F8 -> 21 | G6: =G7+G8 -> 1 | H6: =H7+H8 -> 67 | I6: =I7+I8 -> 1 | ... Q6: =Q7+Q8 -> 1
A7: 男 | B7: =D7+F7+H7+J7+L7+N7+P7 -> 496 | C7: =B7/$B$6 -> 0.47103514 | D7: 375 | E7: =D7/$D$6 -> 0.48076923 | F7: 13 | G7: =F7/$F$6 -> 0.61904762 | H7: 26 | I7: =H7/$H$6 -> 0.3880597 | J7: 23 | K7: =J7/$J$6 -> 0.575 | L7: 10 | M7: =L7/$L$6 -> 0.33333333 | N7: 32 | O7: =N7/$N$6 -> 0.68085106 | P7: 17 | Q7: =P7/$P$6 -> 0.25
A8: 女 | B8: =D8+F8+H8+J8+L8+N8+P8 -> 557 | C8: =B8/$B$6 -> 0.52896486 | D8: 405 | E8: =D8/$D$6 -> 0.51923077 | F8: 8 | G8: =F8/$F$6 -> 0.38095238 | H8: 41 | I8: =H8/$H$6 -> 0.6119403 | J8: 17 | K8: =J8/$J$6 -> 0.425 | L8: 20 | M8: =L8/$L$6 -> 0.66666667 | N8: 15 | O8: =N8/$N$6 -> 0.31914894 | P8: 51 | Q8: =P8/$P$6 -> 0.75
A9: 資料來源：經濟部智慧財產局

Sheet 101年
A1: 智慧財產專業人員培訓課程性別統計表
A2: 中華民國101年
A3: 性別 | B3: 總計 | D3: 培訓班 | F3: 高階班 | H3: 中小學專班 | J3: 法務部專班 | L3: 司法院專班 | N3: 種籽師資進修班
B4: 人次 | C4: % | D4: 人次 | E4: % | F4: 人次 | G4: % | H4: 人次 | I4: % | J4: 人次 | K4: % | L4: 人次 | M4: % | N4: 人次 | O4: %
A5: 班次 | B5: 43 | D5: 35 | F5: 1 | H5: 3 | J5: 1 | L5: 1 | N5: 2
A6: 合計人次 | B6: =B7+B8 -> 1209 | C6: =C7+C8 -> 1 | D6: =D7+D8 -> 924 | E6: =E7+E8 -> 1 | F6: =F7+F8 -> 14 | G6: =G7+G8 -> 1 | H6: =H7+H8 -> 115 | I6: =I7+I8 -> 1 | ... O6: =O7+O8 -> 1
A7: 男 | B7: 667 | C7: 0.5517 | D7: 504 | E7: 0.5455 | F7: 10 | G7: 0.7143 | H7: 59 | I7: 0.513 | J7: 23 | K7: 0.5897 | L7: 15 | M7: 0.4412 | N7: 56 | O7: 0.6747
A8: 女 | B8: 542 | C8: 0.4483 | D8: 420 | E8: 0.4545 | F8: 4 | G8: 0.2857 | H8: 56 | I8: 0.487 | J8: 16 | K8: 0.4103 | L8: 19 | M8: 0.5588 | N8: 27 | O8: 0.3253
A9: 資料來源：經濟部智慧財產局

Sheet 100年
A1: 智慧財產專業人員培訓課程性別統計表
A2: 中華民國100年
A3: 性別 | B3: 人次數按課程分
B4: 總計 | D4: 培訓班 | F4: 高階班 | H4: 中小學專班 | J4: 法官專班 | L4: 檢察官專班 | N4: 種籽師資
N5: 進修專班
B6: 人次 | C6: 百分比% | D6: 人次 | E6: 百分比% | F6: 人次 | G6: 百分比% | H6: 人次 | I6: 百分比% | J6: 人次 | K6: 百分比% | L6: 人次 | M6: 百分比% | N6: 人次 | O6: 百分比%
A7: 班次 | B7: 45 | D7: 36 | F7: 1 | H7: 5 | J7: 1 | L7: 1 | N7: 1
A8: 合計人次 | B8: =B9+B10 -> 1289 | C8: =C9+C10 -> 1 | D8: =D9+D10 -> 861 | E8: =E9+E10 -> 1 | F8: =F9+F10 -> 10 | G8: =G9+G10 -> 1 | H8: =H9+H10 -> 342 | I8: =I9+I10 -> 1 | ... O8: =O9+O10 -> 1
A9: 男 | B9: 707 | C9: 0.55 | D9: 478 | E9: 0.56 | F9: 6 | G9: 0.6 | H9: 171 | I9: 0.5 | J9: 7 | K9: 0.44 | L9: 29 | M9: 0.76 | N9: 16 | O9: 0.73
A10: 女 | B10: 582 | C10: 0.45 | D10: 383 | E10: 0.44 | F10: 4 | G10: 0.4 | H10: 171 | I10: 0.5 | J10: 9 | K10: 0.56 | L10: 9 | M10: 0.24 | N10: 6 | O10: 0.27
A11: 資料來源：經濟部智慧財產局

Sheet 99年
A1: 智慧財產專業人員培訓課程性別統計表
A2: 中華民國99年
A3: 性別 | B3: 人次數按課程分
B4: 總計 | D4: 培訓班 | F4: 高階班 | H4: 中小學專班 | J4: 法官專班 | L4: 檢察官專班 | N4: 技轉專班
B6: 人次 | C6: 百分比% | D6: 人次 | E6: 百分比% | F6: 人次 | G6: 百分比% | H6: 人次 | I6: 百分比% | J6: 人次 | K6: 百分比% | L6: 人次 | M6: 百分比% | N6: 人次 | O6: 百分比%
A7: 班次 | B7: 57 | D7: 49 | F7: 1 | H7: 3 | J7: 1 | L7: 1 | N7: 2
A8: 合計人次 | B8: =B9+B10 -> 1499 | C8: =C9+C10 -> 1 | D8: =D9+D10 -> 1203 | E8: =E9+E10 -> 1 | F8: =F9+F10 -> 21 | G8: =G9+G10 -> 1 | H8: =H9+H10 -> 112 | I8: =I9+I10 -> 1 | ... O8: =O9+O10 -> 1
A9: 男 | B9: 972 | C9: 0.65 | D9: 792 | E9: 0.66 | F9: 11 | G9: 0.52 | H9: 70 | I9: 0.63 | J9: 15 | K9: 0.48 | L9: 20 | M9: 0.57 | N9: 64 | O9: 0.66
A10: 女 | B10: 527 | C10: 0.35 | D10: 411 | E10: 0.34 | F10: 10 | G10: 0.48 | H10: 42 | I10: 0.37 | J10: 16 | K10: 0.52 | L10: 15 | M10: 0.43 | N10: 33 | O10: 0.34
A11: 資料來源：經濟部智慧財產局

Sheet 98年
A1: 智慧財產專業人員培訓課程性別統計表
A2: 中華民國98年
A3: 性別 | B3: 人次數按課程分
B4: 總計 | D4: 培訓班 | F4: 高階班 | H4: 中小學專班 | J4: 法官專班 | L4: 檢察官專班 | N4: 技轉專班 | P4: 國營專班
B6: 人次 | C6: 百分比% | D6: 人次 | E6: 百分比% | F6: 人次 | G6: 百分比% | H6: 人次 | I6: 百分比% | J6: 人次 | K6: 百分比% | L6: 人次 | M6: 百分比% | N6: 人次 | O6: 百分比% | P6: 人次 | Q6: 百分比%
A7: 班次 | B7: =D7+F7+H7+J7+L7+N7+P7 -> 61 | D7: 47 | F7: 1 | H7: 7 | J7: 1 | L7: 1 | N7: 2 | P7: 2
A8: 合計人次 | B8: =B9+B10 -> 1832 | C8: =C9+C10 -> 1 | D8: =D9+D10 -> 1135 | E8: =E9+E10 -> 1 | F8: =F9+F10 -> 11 | G8: =G9+G10 -> 1 | H8: =H9+H10 -> 447 | I8: =I9+I10 -> 1 | ... Q8: =Q9+Q10 -> 1
A9: 男 | B9: =D9+F9+H9+J9+L9+N9+P9 -> 1072 | C9: =B9/(B9+B10) -> 0.58515284 | D9: 690 | E9: =D9/(D9+D10) -> 0.60792952 | F9: 8 | G9: =F9/(F9+F10) -> 0.72727273 | H9: 230 | I9: =H9/(H9+H10) -> 0.51454139 | J9: 15 | K9: =J9/(J9+J10) -> 0.65217391 | L9: 25 | M9: =L9/(L9+L10) -> 0.625 | N9: 30 | O9: =N9/(N9+N10) -> 0.47619048 | P9: 74 | Q9: =P9/(P9+P10) -> 0.65486726
A10: 女 | B10: =D10+F10+H10+J10+L10+N10+P10 -> 760 | C10: =B10/(B9+B10) -> 0.41484716 | D10: 445 | E10: =D10/(D9+D10) -> 0.39207048 | F10: 3 | G10: =F10/(F9+F10) -> 0.27272727 | H10: 217 | I10: =H10/(H9+H10) -> 0.48545861 | J10: 8 | K10: =J10/(J9+J10) -> 0.34782609 | L10: 15 | M10: =L10/(L9+L10) -> 0.375 | N10: 33 | O10: =N10/(N9+N10) -> 0.52380952 | P10: 39 | Q10: =P10/(P9+P10) -> 0.34513274
A11: 資料來源：經濟部智慧財產局
